2.11666666
0
0
-2.11666666
1014203.01007083
6501934.86617122
