2.11666666
0
0
-2.11666666
978228.924243752
6508450.01547574
