2.11575956
0
0
-2.11575956
939222.65318371
2090095.91467535
