3.17412333
0
0
-3.17412333
978445.978959251
6533261.44831692
