2.11666666
0
0
-2.11666666
996511.48288686
6539310.42409228
