2.11666666
0
0
-2.11666666
969489.920389716
6539544.17912843
