2.11575956
0
0
-2.11575956
930207.01032657
2114932.53800867
