2.11666666
0
0
-2.11666666
978604.399402202
6551873.04764070
