2.11666666
0
0
-2.11666666
969597.12363976
6551950.90998674
