3.73615699
0
0
-3.73615699
939328.51770354
2127242.78563188
