2.11666666
0
0
-2.11666666
987772.743396363
6570405.42267089
