3.73615699
0
0
-3.73615699
921297.23198926
2139661.09729854
